Package: InPAS Version: 2.8.0 Command: rm -rf InPAS.buildbin-libdir && mkdir InPAS.buildbin-libdir && /Users/biocbuild/BBS/utils/build-universal.sh InPAS_2.8.0.tar.gz /Library/Frameworks/R.framework/Resources/bin/R InPAS.buildbin-libdir StartedAt: 2023-10-02 09:50:30 -0400 (Mon, 02 Oct 2023) EndedAt: 2023-10-02 09:53:03 -0400 (Mon, 02 Oct 2023) EllapsedTime: 153.2 seconds RetCode: 0 Status: OK PackageFile: InPAS_2.8.0.tgz PackageFileSize: 3.538 MiB