Package: IgGeneUsage Version: 1.14.0 Command: /home/biocbuild/bbs-3.17-bioc/R/bin/R CMD build --keep-empty-dirs --no-resave-data IgGeneUsage StartedAt: 2023-10-15 17:08:47 -0400 (Sun, 15 Oct 2023) EndedAt: 2023-10-15 17:12:37 -0400 (Sun, 15 Oct 2023) EllapsedTime: 229.1 seconds RetCode: 0 Status: OK PackageFile: IgGeneUsage_1.14.0.tar.gz PackageFileSize: 746.9 KiB