Package: HilbertVisGUI Version: 1.58.0 Command: /home/biocbuild/bbs-3.17-bioc/R/bin/R CMD build --keep-empty-dirs --no-resave-data HilbertVisGUI StartedAt: 2023-10-15 17:06:30 -0400 (Sun, 15 Oct 2023) EndedAt: 2023-10-15 17:06:51 -0400 (Sun, 15 Oct 2023) EllapsedTime: 20.9 seconds RetCode: 0 Status: OK PackageFile: HilbertVisGUI_1.58.0.tar.gz PackageFileSize: 72.26 KiB