Package: HiCDCPlus Version: 1.8.0 Command: /home/biocbuild/bbs-3.17-bioc/R/bin/R CMD INSTALL HiCDCPlus StartedAt: 2023-10-15 15:31:43 -0400 (Sun, 15 Oct 2023) EndedAt: 2023-10-15 15:32:27 -0400 (Sun, 15 Oct 2023) EllapsedTime: 44.6 seconds RetCode: 0 Status: OK