Package: HelloRanges Version: 1.26.0 Command: rm -rf HelloRanges.buildbin-libdir && mkdir HelloRanges.buildbin-libdir && /Users/biocbuild/BBS/utils/build-universal.sh HelloRanges_1.26.0.tar.gz /Library/Frameworks/R.framework/Resources/bin/R HelloRanges.buildbin-libdir StartedAt: 2023-10-16 09:32:22 -0400 (Mon, 16 Oct 2023) EndedAt: 2023-10-16 09:34:47 -0400 (Mon, 16 Oct 2023) EllapsedTime: 144.9 seconds RetCode: 0 Status: OK PackageFile: HelloRanges_1.26.0.tgz PackageFileSize: 942.6 KiB