Package: Harshlight Version: 1.72.0 Command: /home/biocbuild/bbs-3.17-bioc/R/bin/R CMD INSTALL Harshlight StartedAt: 2023-10-15 15:12:38 -0400 (Sun, 15 Oct 2023) EndedAt: 2023-10-15 15:12:55 -0400 (Sun, 15 Oct 2023) EllapsedTime: 17.7 seconds RetCode: 0 Status: OK