Package: HTqPCR Version: 1.54.0 Command: /home/biocbuild/bbs-3.17-bioc/R/bin/R CMD build --keep-empty-dirs --no-resave-data HTqPCR StartedAt: 2023-10-15 17:07:37 -0400 (Sun, 15 Oct 2023) EndedAt: 2023-10-15 17:07:57 -0400 (Sun, 15 Oct 2023) EllapsedTime: 19.5 seconds RetCode: 0 Status: OK PackageFile: HTqPCR_1.54.0.tar.gz PackageFileSize: 2.401 MiB