Package: HELP Version: 1.58.0 Command: /home/biocbuild/bbs-3.17-bioc/R/bin/R CMD INSTALL HELP StartedAt: 2023-10-15 15:07:20 -0400 (Sun, 15 Oct 2023) EndedAt: 2023-10-15 15:07:30 -0400 (Sun, 15 Oct 2023) EllapsedTime: 9.3 seconds RetCode: 0 Status: OK