Package: HDF5Array Version: 1.28.1 Command: chmod a+r HDF5Array -R && F:\biocbuild\bbs-3.17-bioc\R\bin\R.exe CMD build --keep-empty-dirs --no-resave-data HDF5Array StartedAt: 2023-10-15 19:47:08 -0400 (Sun, 15 Oct 2023) EndedAt: 2023-10-15 19:47:12 -0400 (Sun, 15 Oct 2023) EllapsedTime: 4.0 seconds RetCode: 0 Status: OK PackageFile: HDF5Array_1.28.1.tar.gz PackageFileSize: 7.722 MiB