Package: HDF5Array Version: 1.28.1 Command: /home/biocbuild/bbs-3.17-bioc/R/bin/R CMD INSTALL HDF5Array StartedAt: 2023-10-15 15:11:22 -0400 (Sun, 15 Oct 2023) EndedAt: 2023-10-15 15:11:44 -0400 (Sun, 15 Oct 2023) EllapsedTime: 21.7 seconds RetCode: 0 Status: OK