Package: HDF5Array Version: 1.28.1 Command: /home/biocbuild/bbs-3.17-bioc/R/bin/R CMD check --install=check:HDF5Array.install-out.txt --library=/home/biocbuild/bbs-3.17-bioc/R/site-library --timings HDF5Array_1.28.1.tar.gz StartedAt: 2023-10-15 21:57:33 -0400 (Sun, 15 Oct 2023) EndedAt: 2023-10-15 22:02:47 -0400 (Sun, 15 Oct 2023) EllapsedTime: 313.8 seconds RetCode: 0 Status: WARNINGS CheckDir: HDF5Array.Rcheck Warnings: 1