Package: HDF5Array Version: 1.28.1 Command: /Library/Frameworks/R.framework/Resources/bin/R CMD INSTALL HDF5Array StartedAt: 2023-10-15 15:17:43 -0400 (Sun, 15 Oct 2023) EndedAt: 2023-10-15 15:19:19 -0400 (Sun, 15 Oct 2023) EllapsedTime: 96.1 seconds RetCode: 0 Status: OK