Package: HDF5Array Version: 1.28.1 Command: rm -rf HDF5Array.buildbin-libdir && mkdir HDF5Array.buildbin-libdir && /Users/biocbuild/BBS/utils/build-universal.sh HDF5Array_1.28.1.tar.gz /Library/Frameworks/R.framework/Resources/bin/R HDF5Array.buildbin-libdir StartedAt: 2023-10-16 09:32:12 -0400 (Mon, 16 Oct 2023) EndedAt: 2023-10-16 09:33:38 -0400 (Mon, 16 Oct 2023) EllapsedTime: 86.0 seconds RetCode: 0 Status: OK PackageFile: HDF5Array_1.28.1.tgz PackageFileSize: 10.9 MiB