Package: GreyListChIP Version: 1.32.1 Command: /home/biocbuild/bbs-3.17-bioc/R/bin/R CMD build --keep-empty-dirs --no-resave-data GreyListChIP StartedAt: 2023-10-15 17:01:19 -0400 (Sun, 15 Oct 2023) EndedAt: 2023-10-15 17:02:07 -0400 (Sun, 15 Oct 2023) EllapsedTime: 47.5 seconds RetCode: 0 Status: OK PackageFile: GreyListChIP_1.32.1.tar.gz PackageFileSize: 341.5 KiB