Package: GraphAlignment Version: 1.64.0 Command: /Library/Frameworks/R.framework/Resources/bin/R CMD check --install=check:GraphAlignment.install-out.txt --library=/Library/Frameworks/R.framework/Resources/library --no-vignettes --timings GraphAlignment_1.64.0.tar.gz StartedAt: 2023-10-16 02:23:52 -0400 (Mon, 16 Oct 2023) EndedAt: 2023-10-16 02:24:32 -0400 (Mon, 16 Oct 2023) EllapsedTime: 40.8 seconds RetCode: 0 Status: OK CheckDir: GraphAlignment.Rcheck Warnings: 0