Package: GraphAT Version: 1.72.0 Command: rm -rf GraphAT.buildbin-libdir && mkdir GraphAT.buildbin-libdir && F:\biocbuild\bbs-3.17-bioc\R\bin\R.exe CMD INSTALL --build --library=GraphAT.buildbin-libdir GraphAT_1.72.0.tar.gz StartedAt: 2023-10-16 08:54:09 -0400 (Mon, 16 Oct 2023) EndedAt: 2023-10-16 08:54:27 -0400 (Mon, 16 Oct 2023) EllapsedTime: 18.0 seconds RetCode: 0 Status: OK PackageFile: GraphAT_1.72.0.zip PackageFileSize: 1.919 MiB