Package: GraphAT Version: 1.72.0 Command: /home/biocbuild/bbs-3.17-bioc/R/bin/R CMD build --keep-empty-dirs --no-resave-data GraphAT StartedAt: 2023-10-15 17:01:05 -0400 (Sun, 15 Oct 2023) EndedAt: 2023-10-15 17:01:07 -0400 (Sun, 15 Oct 2023) EllapsedTime: 2.0 seconds RetCode: 0 Status: OK PackageFile: GraphAT_1.72.0.tar.gz PackageFileSize: 1.884 MiB