Package: GraphAT Version: 1.72.0 Command: /Library/Frameworks/R.framework/Resources/bin/R CMD INSTALL GraphAT StartedAt: 2023-10-15 16:05:10 -0400 (Sun, 15 Oct 2023) EndedAt: 2023-10-15 16:05:35 -0400 (Sun, 15 Oct 2023) EllapsedTime: 24.4 seconds RetCode: 0 Status: OK