Package: GraphAT Version: 1.72.0 Command: /Library/Frameworks/R.framework/Resources/bin/R CMD build --keep-empty-dirs --no-resave-data GraphAT StartedAt: 2023-10-15 18:42:39 -0400 (Sun, 15 Oct 2023) EndedAt: 2023-10-15 18:42:43 -0400 (Sun, 15 Oct 2023) EllapsedTime: 4.0 seconds RetCode: 0 Status: OK PackageFile: GraphAT_1.72.0.tar.gz PackageFileSize: 1.884 MiB