Package: GraphAT Version: 1.72.0 Command: rm -rf GraphAT.buildbin-libdir && mkdir GraphAT.buildbin-libdir && /Users/biocbuild/BBS/utils/build-universal.sh GraphAT_1.72.0.tar.gz /Library/Frameworks/R.framework/Resources/bin/R GraphAT.buildbin-libdir StartedAt: 2023-10-16 09:31:04 -0400 (Mon, 16 Oct 2023) EndedAt: 2023-10-16 09:31:29 -0400 (Mon, 16 Oct 2023) EllapsedTime: 25.1 seconds RetCode: 0 Status: OK PackageFile: GraphAT_1.72.0.tgz PackageFileSize: 1.917 MiB