Package: GeoTcgaData Version: 2.0.0 Command: /home/biocbuild/bbs-3.17-bioc/R/bin/R CMD build --keep-empty-dirs --no-resave-data GeoTcgaData StartedAt: 2023-10-15 16:56:04 -0400 (Sun, 15 Oct 2023) EndedAt: 2023-10-15 16:57:07 -0400 (Sun, 15 Oct 2023) EllapsedTime: 63.8 seconds RetCode: 0 Status: OK PackageFile: GeoTcgaData_2.0.0.tar.gz PackageFileSize: 3.318 MiB