Package: GeoTcgaData Version: 2.0.0 Command: /Library/Frameworks/R.framework/Resources/bin/R CMD INSTALL GeoTcgaData StartedAt: 2023-10-15 16:02:28 -0400 (Sun, 15 Oct 2023) EndedAt: 2023-10-15 16:04:14 -0400 (Sun, 15 Oct 2023) EllapsedTime: 105.5 seconds RetCode: 0 Status: OK