Package: GenomicFiles Version: 1.36.0 Command: /home/biocbuild/bbs-3.17-bioc/R/bin/R CMD build --keep-empty-dirs --no-resave-data GenomicFiles StartedAt: 2023-10-15 16:54:33 -0400 (Sun, 15 Oct 2023) EndedAt: 2023-10-15 16:55:47 -0400 (Sun, 15 Oct 2023) EllapsedTime: 74.4 seconds RetCode: 0 Status: OK PackageFile: GenomicFiles_1.36.0.tar.gz PackageFileSize: 712.7 KiB