Package: GenomicDistributions Version: 1.8.0 Command: /home/biocbuild/bbs-3.17-bioc/R/bin/R CMD build --keep-empty-dirs --no-resave-data GenomicDistributions StartedAt: 2023-10-15 16:54:30 -0400 (Sun, 15 Oct 2023) EndedAt: 2023-10-15 16:55:34 -0400 (Sun, 15 Oct 2023) EllapsedTime: 63.8 seconds RetCode: 0 Status: OK PackageFile: GenomicDistributions_1.8.0.tar.gz PackageFileSize: 5.679 MiB