Package: GenomicDataCommons Version: 1.24.3 Command: rm -rf GenomicDataCommons.buildbin-libdir && mkdir GenomicDataCommons.buildbin-libdir && /Users/biocbuild/BBS/utils/build-universal.sh GenomicDataCommons_1.24.3.tar.gz /Library/Frameworks/R.framework/Resources/bin/R GenomicDataCommons.buildbin-libdir StartedAt: 2023-10-16 09:27:54 -0400 (Mon, 16 Oct 2023) EndedAt: 2023-10-16 09:28:43 -0400 (Mon, 16 Oct 2023) EllapsedTime: 49.0 seconds RetCode: 0 Status: OK PackageFile: GenomicDataCommons_1.24.3.tgz PackageFileSize: 2.018 MiB