Package: GenomAutomorphism Version: 1.2.0 Command: /home/biocbuild/bbs-3.17-bioc/R/bin/R CMD build --keep-empty-dirs --no-resave-data GenomAutomorphism StartedAt: 2023-10-15 16:54:18 -0400 (Sun, 15 Oct 2023) EndedAt: 2023-10-15 16:55:40 -0400 (Sun, 15 Oct 2023) EllapsedTime: 81.6 seconds RetCode: 0 Status: OK PackageFile: GenomAutomorphism_1.2.0.tar.gz PackageFileSize: 1.118 MiB