Package: GWAS.BAYES Version: 1.10.0 Command: /home/biocbuild/bbs-3.17-bioc/R/bin/R CMD INSTALL GWAS.BAYES StartedAt: 2023-10-15 15:39:55 -0400 (Sun, 15 Oct 2023) EndedAt: 2023-10-15 15:40:00 -0400 (Sun, 15 Oct 2023) EllapsedTime: 5.0 seconds RetCode: 0 Status: OK