Package: GWAS.BAYES Version: 1.10.0 Command: /home/biocbuild/bbs-3.17-bioc/R/bin/R CMD build --keep-empty-dirs --no-resave-data GWAS.BAYES StartedAt: 2023-10-15 17:03:40 -0400 (Sun, 15 Oct 2023) EndedAt: 2023-10-15 17:06:09 -0400 (Sun, 15 Oct 2023) EllapsedTime: 149.5 seconds RetCode: 0 Status: OK PackageFile: GWAS.BAYES_1.10.0.tar.gz PackageFileSize: 1.129 MiB