Package: GUIDEseq Version: 1.30.0 Command: /home/biocbuild/bbs-3.17-bioc/R/bin/R CMD build --keep-empty-dirs --no-resave-data GUIDEseq StartedAt: 2023-10-15 17:03:11 -0400 (Sun, 15 Oct 2023) EndedAt: 2023-10-15 17:04:48 -0400 (Sun, 15 Oct 2023) EllapsedTime: 97.2 seconds RetCode: 0 Status: OK PackageFile: GUIDEseq_1.30.0.tar.gz PackageFileSize: 5.873 MiB