Package: GNET2 Version: 1.16.0 Command: chmod a+r GNET2 -R && F:\biocbuild\bbs-3.17-bioc\R\bin\R.exe CMD build --keep-empty-dirs --no-resave-data GNET2 StartedAt: 2023-10-15 19:35:29 -0400 (Sun, 15 Oct 2023) EndedAt: 2023-10-15 19:36:23 -0400 (Sun, 15 Oct 2023) EllapsedTime: 54.1 seconds RetCode: 0 Status: OK PackageFile: GNET2_1.16.0.tar.gz PackageFileSize: 654.2 KiB