Package: GNET2 Version: 1.16.0 Command: rm -rf GNET2.buildbin-libdir && mkdir GNET2.buildbin-libdir && F:\biocbuild\bbs-3.17-bioc\R\bin\R.exe CMD INSTALL --build --library=GNET2.buildbin-libdir GNET2_1.16.0.tar.gz StartedAt: 2023-10-16 08:53:21 -0400 (Mon, 16 Oct 2023) EndedAt: 2023-10-16 08:54:05 -0400 (Mon, 16 Oct 2023) EllapsedTime: 43.9 seconds RetCode: 0 Status: OK PackageFile: GNET2_1.16.0.zip PackageFileSize: 1.076 MiB