Package: GNET2 Version: 1.16.0 Command: /home/biocbuild/bbs-3.17-bioc/R/bin/R CMD check --install=check:GNET2.install-out.txt --library=/home/biocbuild/bbs-3.17-bioc/R/site-library --timings GNET2_1.16.0.tar.gz StartedAt: 2023-10-15 21:44:38 -0400 (Sun, 15 Oct 2023) EndedAt: 2023-10-15 21:47:27 -0400 (Sun, 15 Oct 2023) EllapsedTime: 169.1 seconds RetCode: 0 Status: OK CheckDir: GNET2.Rcheck Warnings: 0