Package: GEOsubmission Version: 1.52.0 Command: /Library/Frameworks/R.framework/Resources/bin/R CMD check --install=check:GEOsubmission.install-out.txt --library=/Library/Frameworks/R.framework/Resources/library --no-vignettes --timings GEOsubmission_1.52.0.tar.gz StartedAt: 2023-10-16 02:09:43 -0400 (Mon, 16 Oct 2023) EndedAt: 2023-10-16 02:10:48 -0400 (Mon, 16 Oct 2023) EllapsedTime: 65.1 seconds RetCode: 0 Status: OK CheckDir: GEOsubmission.Rcheck Warnings: 0