Package: GEOquery Version: 2.68.0 Command: rm -rf GEOquery.buildbin-libdir && mkdir GEOquery.buildbin-libdir && /Users/biocbuild/BBS/utils/build-universal.sh GEOquery_2.68.0.tar.gz /Library/Frameworks/R.framework/Resources/bin/R GEOquery.buildbin-libdir StartedAt: 2023-10-16 09:28:56 -0400 (Mon, 16 Oct 2023) EndedAt: 2023-10-16 09:29:27 -0400 (Mon, 16 Oct 2023) EllapsedTime: 30.3 seconds RetCode: 0 Status: OK PackageFile: GEOquery_2.68.0.tgz PackageFileSize: 13.27 MiB