Package: FunChIP Version: 1.26.0 Command: /Library/Frameworks/R.framework/Resources/bin/R CMD build --keep-empty-dirs --no-resave-data FunChIP StartedAt: 2023-10-15 18:24:50 -0400 (Sun, 15 Oct 2023) EndedAt: 2023-10-15 18:32:33 -0400 (Sun, 15 Oct 2023) EllapsedTime: 462.7 seconds RetCode: 0 Status: OK PackageFile: FunChIP_1.26.0.tar.gz PackageFileSize: 23.01 MiB