Package: FastqCleaner Version: 1.18.0 Command: /home/biocbuild/bbs-3.17-bioc/R/bin/R CMD INSTALL FastqCleaner StartedAt: 2023-10-15 15:30:03 -0400 (Sun, 15 Oct 2023) EndedAt: 2023-10-15 15:30:53 -0400 (Sun, 15 Oct 2023) EllapsedTime: 49.7 seconds RetCode: 0 Status: OK