Package: ExploreModelMatrix Version: 1.12.0 Command: F:\biocbuild\bbs-3.17-bioc\R\bin\R.exe CMD INSTALL ExploreModelMatrix StartedAt: 2023-10-15 16:24:06 -0400 (Sun, 15 Oct 2023) EndedAt: 2023-10-15 16:24:17 -0400 (Sun, 15 Oct 2023) EllapsedTime: 11.2 seconds RetCode: 0 Status: OK