Package: ExploreModelMatrix Version: 1.12.0 Command: chmod a+r ExploreModelMatrix -R && F:\biocbuild\bbs-3.17-bioc\R\bin\R.exe CMD build --keep-empty-dirs --no-resave-data ExploreModelMatrix StartedAt: 2023-10-15 19:08:13 -0400 (Sun, 15 Oct 2023) EndedAt: 2023-10-15 19:08:42 -0400 (Sun, 15 Oct 2023) EllapsedTime: 29.1 seconds RetCode: 0 Status: OK PackageFile: ExploreModelMatrix_1.12.0.tar.gz PackageFileSize: 2.32 MiB