Package: ExploreModelMatrix Version: 1.12.0 Command: rm -rf ExploreModelMatrix.buildbin-libdir && mkdir ExploreModelMatrix.buildbin-libdir && F:\biocbuild\bbs-3.17-bioc\R\bin\R.exe CMD INSTALL --build --library=ExploreModelMatrix.buildbin-libdir ExploreModelMatrix_1.12.0.tar.gz StartedAt: 2023-10-16 08:47:02 -0400 (Mon, 16 Oct 2023) EndedAt: 2023-10-16 08:47:16 -0400 (Mon, 16 Oct 2023) EllapsedTime: 13.9 seconds RetCode: 0 Status: OK PackageFile: ExploreModelMatrix_1.12.0.zip PackageFileSize: 2.385 MiB