Package: ExploreModelMatrix Version: 1.12.0 Command: /home/biocbuild/bbs-3.17-bioc/R/bin/R CMD INSTALL ExploreModelMatrix StartedAt: 2023-10-15 15:27:49 -0400 (Sun, 15 Oct 2023) EndedAt: 2023-10-15 15:27:57 -0400 (Sun, 15 Oct 2023) EllapsedTime: 8.5 seconds RetCode: 0 Status: OK