Package: ExploreModelMatrix Version: 1.12.0 Command: rm -rf ExploreModelMatrix.buildbin-libdir && mkdir ExploreModelMatrix.buildbin-libdir && /Users/biocbuild/BBS/utils/build-universal.sh ExploreModelMatrix_1.12.0.tar.gz /Library/Frameworks/R.framework/Resources/bin/R ExploreModelMatrix.buildbin-libdir StartedAt: 2023-10-16 09:22:57 -0400 (Mon, 16 Oct 2023) EndedAt: 2023-10-16 09:23:30 -0400 (Mon, 16 Oct 2023) EllapsedTime: 33.2 seconds RetCode: 0 Status: OK PackageFile: ExploreModelMatrix_1.12.0.tgz PackageFileSize: 2.5 MiB