Package: ExperimentSubset Version: 1.10.0 Command: /home/biocbuild/bbs-3.17-bioc/R/bin/R CMD INSTALL ExperimentSubset StartedAt: 2023-10-15 15:28:19 -0400 (Sun, 15 Oct 2023) EndedAt: 2023-10-15 15:28:55 -0400 (Sun, 15 Oct 2023) EllapsedTime: 35.5 seconds RetCode: 0 Status: OK