Package: ExperimentHubData Version: 1.26.1 Command: /home/biocbuild/bbs-3.17-bioc/R/bin/R CMD build --keep-empty-dirs --no-resave-data ExperimentHubData StartedAt: 2023-10-15 16:46:03 -0400 (Sun, 15 Oct 2023) EndedAt: 2023-10-15 16:46:45 -0400 (Sun, 15 Oct 2023) EllapsedTime: 42.2 seconds RetCode: 0 Status: OK PackageFile: ExperimentHubData_1.26.1.tar.gz PackageFileSize: 222.9 KiB