Package: EventPointer Version: 3.8.0 Command: /Library/Frameworks/R.framework/Resources/bin/R CMD build --keep-empty-dirs --no-resave-data EventPointer StartedAt: 2023-10-15 18:15:00 -0400 (Sun, 15 Oct 2023) EndedAt: 2023-10-15 18:18:00 -0400 (Sun, 15 Oct 2023) EllapsedTime: 180.2 seconds RetCode: 0 Status: OK PackageFile: EventPointer_3.8.0.tar.gz PackageFileSize: 1.641 MiB