Package: EventPointer Version: 3.8.0 Command: rm -rf EventPointer.buildbin-libdir && mkdir EventPointer.buildbin-libdir && /Users/biocbuild/BBS/utils/build-universal.sh EventPointer_3.8.0.tar.gz /Library/Frameworks/R.framework/Resources/bin/R EventPointer.buildbin-libdir StartedAt: 2023-10-16 09:22:34 -0400 (Mon, 16 Oct 2023) EndedAt: 2023-10-16 09:25:43 -0400 (Mon, 16 Oct 2023) EllapsedTime: 189.1 seconds RetCode: 0 Status: OK PackageFile: EventPointer_3.8.0.tgz PackageFileSize: 1.315 MiB