Package: DynDoc Version: 1.78.0 Command: /home/biocbuild/bbs-3.17-bioc/R/bin/R CMD INSTALL DynDoc StartedAt: 2023-10-15 15:06:52 -0400 (Sun, 15 Oct 2023) EndedAt: 2023-10-15 15:07:01 -0400 (Sun, 15 Oct 2023) EllapsedTime: 9.3 seconds RetCode: 0 Status: OK