Package: DynDoc Version: 1.78.0 Command: /home/biocbuild/bbs-3.17-bioc/R/bin/R CMD build --keep-empty-dirs --no-resave-data DynDoc StartedAt: 2023-10-15 16:40:11 -0400 (Sun, 15 Oct 2023) EndedAt: 2023-10-15 16:40:12 -0400 (Sun, 15 Oct 2023) EllapsedTime: 1.0 seconds RetCode: 0 Status: OK PackageFile: DynDoc_1.78.0.tar.gz PackageFileSize: 10.95 KiB