Package: DynDoc Version: 1.78.0 Command: rm -rf DynDoc.buildbin-libdir && mkdir DynDoc.buildbin-libdir && /Users/biocbuild/BBS/utils/build-universal.sh DynDoc_1.78.0.tar.gz /Library/Frameworks/R.framework/Resources/bin/R DynDoc.buildbin-libdir StartedAt: 2023-10-16 09:19:41 -0400 (Mon, 16 Oct 2023) EndedAt: 2023-10-16 09:19:51 -0400 (Mon, 16 Oct 2023) EllapsedTime: 9.7 seconds RetCode: 0 Status: OK PackageFile: DynDoc_1.78.0.tgz PackageFileSize: 209.9 KiB