Package: DropletUtils Version: 1.20.0 Command: /home/biocbuild/bbs-3.17-bioc/R/bin/R CMD INSTALL DropletUtils StartedAt: 2023-10-15 15:25:43 -0400 (Sun, 15 Oct 2023) EndedAt: 2023-10-15 15:26:57 -0400 (Sun, 15 Oct 2023) EllapsedTime: 74.5 seconds RetCode: 0 Status: OK