Package: DropletUtils Version: 1.20.0 Command: /home/biocbuild/bbs-3.17-bioc/R/bin/R CMD build --keep-empty-dirs --no-resave-data DropletUtils StartedAt: 2023-10-15 16:39:38 -0400 (Sun, 15 Oct 2023) EndedAt: 2023-10-15 16:41:12 -0400 (Sun, 15 Oct 2023) EllapsedTime: 93.7 seconds RetCode: 0 Status: OK PackageFile: DropletUtils_1.20.0.tar.gz PackageFileSize: 558.3 KiB